BEGIN:VCALENDAR
VERSION:2.0
PRODID:-//Tukios.com/
BEGIN:VEVENT
UID:f16c0a8b-93d7-41b1-860f-189e5e501e06@www.pelhamfuneral.com
DTSTAMP:20260422T233831Z
DTSTART:20260427T154500Z
DTEND:20260427T160000Z
SUMMARY:Burial
DESCRIPTION:
URL:https://www.pelhamfuneral.com/obituaries/charles-dibenedetto
LOCATION: 10 W Stevens Ave  Hawthorne NY 10532
GEO:41.0906853;-73.7998149
END:VEVENT
END:VCALENDAR