BEGIN:VCALENDAR
VERSION:2.0
PRODID:-//Tukios.com/
BEGIN:VEVENT
UID:34180870-42df-40e0-8f21-9ef63496e1e2@www.pelhamfuneral.com
DTSTAMP:20260422T234025Z
DTSTART:20260427T140000Z
DTEND:20260427T150000Z
SUMMARY:Mass
DESCRIPTION:
URL:https://www.pelhamfuneral.com/obituaries/charles-dibenedetto
LOCATION:Our Lady of Perpetual Help Church 599 Pelham Manor Rd  Pelham 
	Manor NY 10803
GEO:40.8986408;-73.8035093
END:VEVENT
END:VCALENDAR