BEGIN:VCALENDAR
VERSION:2.0
PRODID:-//Tukios.com/
BEGIN:VEVENT
UID:2894b4a9-33c6-4ecf-9f9f-63a5f08b2078@www.pelhamfuneral.com
DTSTAMP:20260422T233413Z
DTSTART:20260426T180000Z
DTEND:20260426T220000Z
SUMMARY:Visitation
DESCRIPTION:
URL:https://www.pelhamfuneral.com/obituaries/charles-dibenedetto
LOCATION:Pelham Funeral Home 64 Lincoln Ave.  Pelham NY 10803
GEO:40.9154773;-73.8093112
END:VEVENT
END:VCALENDAR